BEGIN:VCALENDAR
VERSION:2.0
PRODID:-//K&amp;L Dance - ECPv4.6.11.1//NONSGML v1.0//EN
CALSCALE:GREGORIAN
METHOD:PUBLISH
X-WR-CALNAME:K&amp;L Dance
X-ORIGINAL-URL:http://www.kldance.com.au
X-WR-CALDESC:Events for K&amp;L Dance
BEGIN:VEVENT
DTSTART;TZID=UTC-8:20180310T130000
DTEND;TZID=UTC-8:20180923T190000
DTSTAMP:20180226T094151
CREATED:20171208T202904Z
LAST-MODIFIED:20171208T202904Z
UID:19415-1520686800-1537729200@www.kldance.com.au
SUMMARY:Brazilian Zouk Teachers Training with Kadu and Larissa
DESCRIPTION:Kadu and I are so excited to announce our first K&L Brazilian Zouk Teachers Training! The training is offered in 3 modules of 10 hours per module. A series of education workshops designed to address Brazilian Zouk teachers needs.  \n– Become a Brazilian Zouk teacher in dance studios and dance events\n– Dance teachers and professional dancers can gain a better undertaking of our vocabulary and teaching techniques\n– Session include lectures\, demonstrations and practice for teaching all levels\n– Discover new approaches and methods\n– Educate the next generation so they learn correctly from the start\n– Motivate and inspire teachers and professional dancers to take your classes and students to another level \nTo become a certified K&L Brazilian Zouk teacher\, recognised by the Brazilian Zouk Dance Council (BZDC)\, participants must complete our 3 module teachers training and pass our final examination.  \nFor more information and auditions email us today!\ninfo@kadularissa.com \n
URL:http://www.kldance.com.au/upcoming-events/brazilian-zouk-teachers-training-with-kadu-and-larissa/
LOCATION:8129 E Wardlow Rd\, Long Beach\, CA\, 90808\, United States
ATTACH;FMTTYPE=image/jpeg:http://www.kldance.com.au/wp-content/uploads/2017/12/facebook_event_626945424360542.jpg
END:VEVENT
END:VCALENDAR